BEGIN:VCALENDAR
VERSION:2.0
PRODID:-//miamichildrenschorus.org//NONSGML kigkonsult.se iCalcreator 2.30.
 10//
CALSCALE:GREGORIAN
METHOD:PUBLISH
UID:e6a97909-c781-43ca-b9fe-649c7cb3d0c5
X-WR-CALDESC:Our ensembles have been working diligently all year on a wide 
 variety of repertoire\; they can't wait to showcase what they've been work
 ing on! \n\nAt our spring concert\, we honor each of our graduation member
 s and award two special awards to choristers who embody the spirit of the 
 organization - The Christie Prieto Distinguished Chorister Award\, and the
  Lucrecia P. Loumiet Service Award. Each awardee will have the opportunity
  to speak throughout the program. You don't want to miss it!
X-WR-RELCALID:38305983bee6e03472d3f910c5f3fb5c
X-WR-TIMEZONE:America/New_York
BEGIN:VTIMEZONE
TZID:America/New_York
BEGIN:STANDARD
TZNAME:EST
DTSTART:20231105T020000
TZOFFSETFROM:-0400
TZOFFSETTO:-0500
RDATE:20241103T020000
END:STANDARD
BEGIN:DAYLIGHT
TZNAME:EDT
DTSTART:20240310T020000
TZOFFSETFROM:-0500
TZOFFSETTO:-0400
RDATE:20250309T020000
END:DAYLIGHT
END:VTIMEZONE
BEGIN:VEVENT
UID:102407c7-db77-4297-8f6e-4e933b3b92d7
DTSTAMP:20260420T013007Z
DESCRIPTION:Our ensembles have been working diligently all year on a wide v
 ariety of repertoire\; they can't wait to showcase what they've been worki
 ng on! \n\nAt our spring concert\, we honor each of our graduation members
  and award two special awards to choristers who embody the spirit of the o
 rganization - The Christie Prieto Distinguished Chorister Award\, and the 
 Lucrecia P. Loumiet Service Award. Each awardee will have the opportunity 
 to speak throughout the program. You don't want to miss it!
DTSTART;TZID=America/New_York:20240421T180000
DTEND;TZID=America/New_York:20240421T193000
LOCATION:First United Methodist Church of Coral Gables - 535 Coral Way\, Co
 ral Gables\, 33134
SUMMARY:'Let's Get Loud' MCC Annual Spring Concert
END:VEVENT
END:VCALENDAR
