BEGIN:VCALENDAR
VERSION:2.0
PRODID:-//miamichildrenschorus.org//NONSGML kigkonsult.se iCalcreator 2.30.
 10//
CALSCALE:GREGORIAN
METHOD:PUBLISH
UID:bb1f195d-42a3-4b9b-93cb-0365d8b5f2ba
X-WR-CALDESC:In partnership with the Adrienne Arsht Center\, The Big Sing w
 ill feature community choirs raising their voices in song and engaging the
  audience to sing and dance along in this musical celebration. MCC ensembl
 es will perform Latin American pop favorites\, including tunes from Gloria
  Estefan and other Miami icons\; while Encantus Voices\, an adult choir\, 
 leads the audience in beloved traditional songs from various Latin America
 n countries\, including Colombia and Venezuela. Girl Power Rocks will cran
 k up the volume with soul and R&B hits from Aretha Franklin and various ot
 hers. Everyone will sing along to iconic composer Rollo Dilworth's 'Rise a
 nd Shine\,' inspired by the timeless melody of 'This Little Light of Mine.
 ' The Big Sing will also include the premiere of a choral work written to 
 the text of “The Hill We Climb” by inaugural poet Amanda Gorman. Commissio
 ned by the Arsht Center and Miami Children’s Chorus\, this exciting piece 
 written by Rollo Dilworth and Maria. A. Ellis cannot be missed.\n\nAdmissi
 on to The Big Sing is free for all. However\, first-access passes are requ
 ired. Get your first-access passes now!
X-WR-RELCALID:948c83c63de33a109b2bd71127ba1085
X-WR-TIMEZONE:America/New_York
BEGIN:VTIMEZONE
TZID:America/New_York
BEGIN:STANDARD
TZNAME:EST
DTSTART:20231105T020000
TZOFFSETFROM:-0400
TZOFFSETTO:-0500
RDATE:20241103T020000
RDATE:20251102T020000
END:STANDARD
BEGIN:DAYLIGHT
TZNAME:EDT
DTSTART:20240310T020000
TZOFFSETFROM:-0500
TZOFFSETTO:-0400
RDATE:20250309T020000
RDATE:20260308T020000
END:DAYLIGHT
END:VTIMEZONE
BEGIN:VEVENT
UID:eae24c3e-544a-406c-9157-6d45ec175612
DTSTAMP:20260421T033337Z
DESCRIPTION:In partnership with the Adrienne Arsht Center\, The Big Sing wi
 ll feature community choirs raising their voices in song and engaging the 
 audience to sing and dance along in this musical celebration. MCC ensemble
 s will perform Latin American pop favorites\, including tunes from Gloria 
 Estefan and other Miami icons\; while Encantus Voices\, an adult choir\, l
 eads the audience in beloved traditional songs from various Latin American
  countries\, including Colombia and Venezuela. Girl Power Rocks will crank
  up the volume with soul and R&B hits from Aretha Franklin and various oth
 ers. Everyone will sing along to iconic composer Rollo Dilworth's 'Rise an
 d Shine\,' inspired by the timeless melody of 'This Little Light of Mine.'
  The Big Sing will also include the premiere of a choral work written to t
 he text of “The Hill We Climb” by inaugural poet Amanda Gorman. Commission
 ed by the Arsht Center and Miami Children’s Chorus\, this exciting piece w
 ritten by Rollo Dilworth and Maria. A. Ellis cannot be missed.\n\nAdmissio
 n to The Big Sing is free for all. However\, first-access passes are requi
 red. Get your first-access passes now!
DTSTART;TZID=America/New_York:20240929T060000
DTEND;TZID=America/New_York:20240929T060001
LOCATION:The Knight Concert Hall at the Adrienne Arsht Center
SUMMARY:The Big Sing
END:VEVENT
END:VCALENDAR
