BEGIN:VCALENDAR
VERSION:2.0
PRODID:-//miamichildrenschorus.org//NONSGML kigkonsult.se iCalcreator 2.30.
 10//
CALSCALE:GREGORIAN
METHOD:PUBLISH
UID:63005f51-97f6-4573-975f-8226145996a9
X-WR-CALDESC:Join us in supporting the Florida Grand Opera's performance of
  Turandot! \n\nGet ready for an opera of high-stakes drama\, breathtaking 
 spectacle\, and one of the most legendary scores ever composed. Puccini’s 
 final masterpiece\, Turandot\, comes to life in a production that honors t
 he grandeur of its 1926 La Scala premiere while pushing boundaries with st
 unning visual technology. Seamlessly blending innovation with tradition\, 
 this epic tale is more immersive and electrifying than ever.At the heart o
 f the story is the cold and enigmatic Princess Turandot\, who tests her su
 itors with three impossible riddles—failure means death. But when the fear
 less Prince Calaf succeeds\, the real challenge begins—not of intellect\, 
 but of love. Will he melt Turandot’s icy heart\, or will fate take yet ano
 ther victim?\n\nFrom the electrifying power of “Nessun dorma” to sweeping 
 orchestral landscapes\, Puccini’s score pulses with passion\, intensity\, 
 and grandeur. This production takes Turandot to new heights\, merging opul
 ent costumes and lavish sets with cutting-edge stagecraft to transport aud
 iences into a world of mystery\, romance\, and spectacle. With a chorus th
 at shakes the stage and a breathtaking design that immerses you in the sto
 ry\, this is Turandot as you’ve never experienced it before—bold\, exhilar
 ating\, and utterly mesmerizing.\n\nSung in Italian with English and Spani
 sh projected translations.
X-WR-RELCALID:76c2456de687592f5878f46bcec2de01
X-WR-TIMEZONE:America/New_York
BEGIN:VTIMEZONE
TZID:America/New_York
BEGIN:STANDARD
TZNAME:EST
DTSTART:20251102T020000
TZOFFSETFROM:-0400
TZOFFSETTO:-0500
RDATE:20261101T020000
END:STANDARD
BEGIN:DAYLIGHT
TZNAME:EDT
DTSTART:20260308T020000
TZOFFSETFROM:-0500
TZOFFSETTO:-0400
RDATE:20270314T020000
END:DAYLIGHT
END:VTIMEZONE
BEGIN:VEVENT
UID:cf79dd61-3eba-4c5a-b4a0-2d90a9d15cc2
DTSTAMP:20260425T163818Z
DESCRIPTION:Join us in supporting the Florida Grand Opera's performance of 
 Turandot! \n\nGet ready for an opera of high-stakes drama\, breathtaking s
 pectacle\, and one of the most legendary scores ever composed. Puccini’s f
 inal masterpiece\, Turandot\, comes to life in a production that honors th
 e grandeur of its 1926 La Scala premiere while pushing boundaries with stu
 nning visual technology. Seamlessly blending innovation with tradition\, t
 his epic tale is more immersive and electrifying than ever.At the heart of
  the story is the cold and enigmatic Princess Turandot\, who tests her sui
 tors with three impossible riddles—failure means death. But when the fearl
 ess Prince Calaf succeeds\, the real challenge begins—not of intellect\, b
 ut of love. Will he melt Turandot’s icy heart\, or will fate take yet anot
 her victim?\n\nFrom the electrifying power of “Nessun dorma” to sweeping o
 rchestral landscapes\, Puccini’s score pulses with passion\, intensity\, a
 nd grandeur. This production takes Turandot to new heights\, merging opule
 nt costumes and lavish sets with cutting-edge stagecraft to transport audi
 ences into a world of mystery\, romance\, and spectacle. With a chorus tha
 t shakes the stage and a breathtaking design that immerses you in the stor
 y\, this is Turandot as you’ve never experienced it before—bold\, exhilara
 ting\, and utterly mesmerizing.\n\nSung in Italian with English and Spanis
 h projected translations.
DTSTART;TZID=America/New_York:20260326T060000
DTEND;TZID=America/New_York:20260328T060001
LOCATION:Broward Center for the Performing Arts\, 201 SW 5th Ave\, Fort Lau
 derdale\, FL 33132 US
SUMMARY:Turandot with Florida Grand Opera
END:VEVENT
END:VCALENDAR
