BEGIN:VCALENDAR
VERSION:2.0
PRODID:-//miamichildrenschorus.org//NONSGML kigkonsult.se iCalcreator 2.30.
 10//
CALSCALE:GREGORIAN
METHOD:PUBLISH
UID:52e85c81-3565-4dc7-97d6-b86c06c4a6aa
X-WR-CALDESC:Join the MCC and the Florida Singing Sons for the second conce
 rt of the 2024 OYE! Choral Festival. This FREE concert will feature works 
 each group will perform on tour in Spain this July and works dedicated to 
 all of the amazing father's in our lives! \n\nReserve your FREE ticket now
  - https://www.eventbrite.com/e/oye-choral-festival-concert-2-tickets-9172
 87661087?aff=oddtdtcreator
X-WR-RELCALID:e9a25d8bcff6adb476df106283b2bbd6
X-WR-TIMEZONE:America/New_York
BEGIN:VTIMEZONE
TZID:America/New_York
BEGIN:STANDARD
TZNAME:EST
DTSTART:20231105T020000
TZOFFSETFROM:-0400
TZOFFSETTO:-0500
RDATE:20241103T020000
RDATE:20251102T020000
END:STANDARD
BEGIN:DAYLIGHT
TZNAME:EDT
DTSTART:20240310T020000
TZOFFSETFROM:-0500
TZOFFSETTO:-0400
RDATE:20250309T020000
END:DAYLIGHT
END:VTIMEZONE
BEGIN:VEVENT
UID:1008b075-2206-4dbc-8a0a-b3befe8f0841
DTSTAMP:20260420T135714Z
DESCRIPTION:Join the MCC and the Florida Singing Sons for the second concer
 t of the 2024 OYE! Choral Festival. This FREE concert will feature works e
 ach group will perform on tour in Spain this July and works dedicated to a
 ll of the amazing father's in our lives! \n\nReserve your FREE ticket now 
 - https://www.eventbrite.com/e/oye-choral-festival-concert-2-tickets-91728
 7661087?aff=oddtdtcreator
DTSTART;TZID=America/New_York:20240616T160000
DTEND;TZID=America/New_York:20240616T173000
LOCATION:First Presbyterian Church of Pompano Beach - 2331 NE 26th Ave\, Po
 mpano Beach\, FL 33062
SUMMARY:OYE! Choral Festival - Concert II
END:VEVENT
END:VCALENDAR
